BEGIN:VCALENDAR
VERSION:2.0
PRODID:-//Brooklyn Community Board 6 - ECPv6.15.20//NONSGML v1.0//EN
CALSCALE:GREGORIAN
METHOD:PUBLISH
X-WR-CALNAME:Brooklyn Community Board 6
X-ORIGINAL-URL:https://brooklyncb6.cityofnewyork.us
X-WR-CALDESC:Events for Brooklyn Community Board 6
REFRESH-INTERVAL;VALUE=DURATION:PT1H
X-Robots-Tag:noindex
X-PUBLISHED-TTL:PT1H
BEGIN:VTIMEZONE
TZID:America/New_York
BEGIN:DAYLIGHT
TZOFFSETFROM:-0500
TZOFFSETTO:-0400
TZNAME:EDT
DTSTART:20230312T070000
END:DAYLIGHT
BEGIN:STANDARD
TZOFFSETFROM:-0400
TZOFFSETTO:-0500
TZNAME:EST
DTSTART:20231105T060000
END:STANDARD
BEGIN:DAYLIGHT
TZOFFSETFROM:-0500
TZOFFSETTO:-0400
TZNAME:EDT
DTSTART:20240310T070000
END:DAYLIGHT
BEGIN:STANDARD
TZOFFSETFROM:-0400
TZOFFSETTO:-0500
TZNAME:EST
DTSTART:20241103T060000
END:STANDARD
BEGIN:DAYLIGHT
TZOFFSETFROM:-0500
TZOFFSETTO:-0400
TZNAME:EDT
DTSTART:20250309T070000
END:DAYLIGHT
BEGIN:STANDARD
TZOFFSETFROM:-0400
TZOFFSETTO:-0500
TZNAME:EST
DTSTART:20251102T060000
END:STANDARD
BEGIN:DAYLIGHT
TZOFFSETFROM:-0500
TZOFFSETTO:-0400
TZNAME:EDT
DTSTART:20260308T070000
END:DAYLIGHT
BEGIN:STANDARD
TZOFFSETFROM:-0400
TZOFFSETTO:-0500
TZNAME:EST
DTSTART:20261101T060000
END:STANDARD
END:VTIMEZONE
BEGIN:VEVENT
DTSTART;TZID=America/New_York:20251012T130000
DTEND;TZID=America/New_York:20251012T180000
DTSTAMP:20260425T101654
CREATED:20251008T173815Z
LAST-MODIFIED:20251008T173858Z
UID:10000321-1760274000-1760292000@brooklyncb6.cityofnewyork.us
SUMMARY:Red Hook Open Studios
DESCRIPTION:For more information go to: redhookopenstudios.com
URL:https://brooklyncb6.cityofnewyork.us/event/red-hook-open-studios-4/
LOCATION:Red Hook\, Red Hook\, Brooklyn\, New York\, 11231\, United States
ORGANIZER;CN="Red Hook Open Studios":MAILTO:redhookopenstudios@gmail.com
END:VEVENT
BEGIN:VEVENT
DTSTART;TZID=America/New_York:20251011T130000
DTEND;TZID=America/New_York:20251011T180000
DTSTAMP:20260425T101654
CREATED:20251008T173942Z
LAST-MODIFIED:20251008T173942Z
UID:10000322-1760187600-1760205600@brooklyncb6.cityofnewyork.us
SUMMARY:Red Hook Open Studios
DESCRIPTION:For more information go to: redhookopenstudios.com
URL:https://brooklyncb6.cityofnewyork.us/event/red-hook-open-studios-5/
LOCATION:Red Hook\, Red Hook\, Brooklyn\, New York\, 11231\, United States
ORGANIZER;CN="Red Hook Open Studios":MAILTO:redhookopenstudios@gmail.com
END:VEVENT
BEGIN:VEVENT
DTSTART;TZID=America/New_York:20241006T130000
DTEND;TZID=America/New_York:20241006T180000
DTSTAMP:20260425T101654
CREATED:20241001T135011Z
LAST-MODIFIED:20241001T135011Z
UID:10000075-1728219600-1728237600@brooklyncb6.cityofnewyork.us
SUMMARY:Red Hook Open Studios
DESCRIPTION:
URL:https://brooklyncb6.cityofnewyork.us/event/red-hook-open-studios-2/
LOCATION:Red Hook\, Red Hook\, Brooklyn\, New York\, 11231\, United States
ORGANIZER;CN="Red Hook Open Studios":MAILTO:redhookopenstudios@gmail.com
END:VEVENT
BEGIN:VEVENT
DTSTART;TZID=America/New_York:20241005T130000
DTEND;TZID=America/New_York:20241005T180000
DTSTAMP:20260425T101654
CREATED:20241001T134754Z
LAST-MODIFIED:20241001T134754Z
UID:10000074-1728133200-1728151200@brooklyncb6.cityofnewyork.us
SUMMARY:Red Hook Open Studios
DESCRIPTION:
URL:https://brooklyncb6.cityofnewyork.us/event/red-hook-open-studios/
LOCATION:Red Hook\, Red Hook\, Brooklyn\, New York\, 11231\, United States
ORGANIZER;CN="Red Hook Open Studios":MAILTO:redhookopenstudios@gmail.com
END:VEVENT
END:VCALENDAR