BEGIN:VCALENDAR
VERSION:2.0
PRODID:-//Brooklyn Community Board 6 - ECPv6.15.20//NONSGML v1.0//EN
CALSCALE:GREGORIAN
METHOD:PUBLISH
X-ORIGINAL-URL:https://brooklyncb6.cityofnewyork.us
X-WR-CALDESC:Events for Brooklyn Community Board 6
REFRESH-INTERVAL;VALUE=DURATION:PT1H
X-Robots-Tag:noindex
X-PUBLISHED-TTL:PT1H
BEGIN:VTIMEZONE
TZID:America/New_York
BEGIN:DAYLIGHT
TZOFFSETFROM:-0500
TZOFFSETTO:-0400
TZNAME:EDT
DTSTART:20230312T070000
END:DAYLIGHT
BEGIN:STANDARD
TZOFFSETFROM:-0400
TZOFFSETTO:-0500
TZNAME:EST
DTSTART:20231105T060000
END:STANDARD
BEGIN:DAYLIGHT
TZOFFSETFROM:-0500
TZOFFSETTO:-0400
TZNAME:EDT
DTSTART:20240310T070000
END:DAYLIGHT
BEGIN:STANDARD
TZOFFSETFROM:-0400
TZOFFSETTO:-0500
TZNAME:EST
DTSTART:20241103T060000
END:STANDARD
BEGIN:DAYLIGHT
TZOFFSETFROM:-0500
TZOFFSETTO:-0400
TZNAME:EDT
DTSTART:20250309T070000
END:DAYLIGHT
BEGIN:STANDARD
TZOFFSETFROM:-0400
TZOFFSETTO:-0500
TZNAME:EST
DTSTART:20251102T060000
END:STANDARD
END:VTIMEZONE
BEGIN:VEVENT
DTSTART;TZID=America/New_York:20241024T073000
DTEND;TZID=America/New_York:20241024T120000
DTSTAMP:20260421T021910
CREATED:20241020T145028Z
LAST-MODIFIED:20241020T145028Z
UID:10000194-1729755000-1729771200@brooklyncb6.cityofnewyork.us
SUMMARY:Prospect Park Fall Migration Walks
DESCRIPTION:
URL:https://brooklyncb6.cityofnewyork.us/event/prospect-park-fall-migration-walks-2/
LOCATION:Prospect Park Audubon Center\, 101 East Drive\, Brooklyn\, NY\, 11225\, United States
ORGANIZER;CN="Prospect Park Alliance":MAILTO:info@prospectpark.org
END:VEVENT
BEGIN:VEVENT
DTSTART;TZID=America/New_York:20241022T073000
DTEND;TZID=America/New_York:20241022T120000
DTSTAMP:20260421T021910
CREATED:20241020T143102Z
LAST-MODIFIED:20241020T143102Z
UID:10000192-1729582200-1729598400@brooklyncb6.cityofnewyork.us
SUMMARY:Prospect Park Fall Migration Walks
DESCRIPTION:
URL:https://brooklyncb6.cityofnewyork.us/event/prospect-park-fall-migration-walks/
LOCATION:Prospect Park Audubon Center\, 101 East Drive\, Brooklyn\, NY\, 11225\, United States
ORGANIZER;CN="Prospect Park Alliance":MAILTO:info@prospectpark.org
END:VEVENT
BEGIN:VEVENT
DTSTART;TZID=America/New_York:20241006T080000
DTEND;TZID=America/New_York:20241006T100000
DTSTAMP:20260421T021910
CREATED:20241005T022626Z
LAST-MODIFIED:20241005T023514Z
UID:10000129-1728201600-1728208800@brooklyncb6.cityofnewyork.us
SUMMARY:Prospect Park - Birdwatching: First Sunday Outings
DESCRIPTION:
URL:https://brooklyncb6.cityofnewyork.us/event/prospect-park-birdwatching-first-sunday-outings/
LOCATION:Prospect Park Audubon Center\, 101 East Drive\, Brooklyn\, NY\, 11225\, United States
ORGANIZER;CN="Prospect Park Alliance":MAILTO:info@prospectpark.org
END:VEVENT
BEGIN:VEVENT
DTSTART;TZID=America/New_York:20241005T100000
DTEND;TZID=America/New_York:20241005T120000
DTSTAMP:20260421T021910
CREATED:20241005T023243Z
LAST-MODIFIED:20241005T023243Z
UID:10000130-1728122400-1728129600@brooklyncb6.cityofnewyork.us
SUMMARY:Prospect Park- Introduction to Birdwatching
DESCRIPTION:
URL:https://brooklyncb6.cityofnewyork.us/event/prospect-park-introduction-to-birdwatching/
LOCATION:Prospect Park Audubon Center\, 101 East Drive\, Brooklyn\, NY\, 11225\, United States
ORGANIZER;CN="Prospect Park Alliance":MAILTO:info@prospectpark.org
END:VEVENT
END:VCALENDAR