BEGIN:VCALENDAR
VERSION:2.0
PRODID:-//Brooklyn Community Board 6 - ECPv6.15.20//NONSGML v1.0//EN
CALSCALE:GREGORIAN
METHOD:PUBLISH
X-ORIGINAL-URL:https://brooklyncb6.cityofnewyork.us
X-WR-CALDESC:Events for Brooklyn Community Board 6
REFRESH-INTERVAL;VALUE=DURATION:PT1H
X-Robots-Tag:noindex
X-PUBLISHED-TTL:PT1H
BEGIN:VTIMEZONE
TZID:America/New_York
BEGIN:DAYLIGHT
TZOFFSETFROM:-0500
TZOFFSETTO:-0400
TZNAME:EDT
DTSTART:20230312T070000
END:DAYLIGHT
BEGIN:STANDARD
TZOFFSETFROM:-0400
TZOFFSETTO:-0500
TZNAME:EST
DTSTART:20231105T060000
END:STANDARD
BEGIN:DAYLIGHT
TZOFFSETFROM:-0500
TZOFFSETTO:-0400
TZNAME:EDT
DTSTART:20240310T070000
END:DAYLIGHT
BEGIN:STANDARD
TZOFFSETFROM:-0400
TZOFFSETTO:-0500
TZNAME:EST
DTSTART:20241103T060000
END:STANDARD
BEGIN:DAYLIGHT
TZOFFSETFROM:-0500
TZOFFSETTO:-0400
TZNAME:EDT
DTSTART:20250309T070000
END:DAYLIGHT
BEGIN:STANDARD
TZOFFSETFROM:-0400
TZOFFSETTO:-0500
TZNAME:EST
DTSTART:20251102T060000
END:STANDARD
END:VTIMEZONE
BEGIN:VEVENT
DTSTART;TZID=America/New_York:20241113T183000
DTEND;TZID=America/New_York:20241113T183000
DTSTAMP:20260419T091004
CREATED:20241002T202937Z
LAST-MODIFIED:20241028T160640Z
UID:10000003-1731522600-1731522600@brooklyncb6.cityofnewyork.us
SUMMARY:CB6 Full Board Meeting - November 2024
DESCRIPTION: \n\n\nDATE: \nWednesday\, November 13\, 2024 \nTIME: \n6:30 PM \nPLACE: \nVan Alen Institute & Zoom \nI.ADOPTION OF OCTOBER 2024 MINUTES \nII.CHAIRPERSON’S REPORT \nIII.DISTRICT MANAGER’S REPORT \nIV.COMMITTEE REPORTS: \nA. LANDMARKS\, LAND USE & HOUSING \n\n\n 	Motion to conditionally approve an application to the Landmarks Preservation Commission for 136 Kane Street( Cobble Hill Historic District) to allow for a 2-story rear yard extension and rooftop addition. The condition of this approval is that the fenestration of the west-facing rooftop addition is reduced so it is similar to 435 Henry Street.\n\nV.NEW/OTHER BUSINESS \nVI.Community Session \nVII.ADJOURNMENT
URL:https://brooklyncb6.cityofnewyork.us/event/board-meeting-4/
LOCATION:Van Alen Institute\, 303 Bond Street\, Brooklyn\, NY\, 11231\, United States
ORGANIZER;CN="Brooklyn Community Board 6":MAILTO:info@bkcb6.org
END:VEVENT
END:VCALENDAR