BEGIN:VCALENDAR
VERSION:2.0
PRODID:-//Brooklyn Community Board 6 - ECPv6.15.20//NONSGML v1.0//EN
CALSCALE:GREGORIAN
METHOD:PUBLISH
X-WR-CALNAME:Brooklyn Community Board 6
X-ORIGINAL-URL:https://brooklyncb6.cityofnewyork.us
X-WR-CALDESC:Events for Brooklyn Community Board 6
REFRESH-INTERVAL;VALUE=DURATION:PT1H
X-Robots-Tag:noindex
X-PUBLISHED-TTL:PT1H
BEGIN:VTIMEZONE
TZID:America/New_York
BEGIN:DAYLIGHT
TZOFFSETFROM:-0500
TZOFFSETTO:-0400
TZNAME:EDT
DTSTART:20230312T070000
END:DAYLIGHT
BEGIN:STANDARD
TZOFFSETFROM:-0400
TZOFFSETTO:-0500
TZNAME:EST
DTSTART:20231105T060000
END:STANDARD
BEGIN:DAYLIGHT
TZOFFSETFROM:-0500
TZOFFSETTO:-0400
TZNAME:EDT
DTSTART:20240310T070000
END:DAYLIGHT
BEGIN:STANDARD
TZOFFSETFROM:-0400
TZOFFSETTO:-0500
TZNAME:EST
DTSTART:20241103T060000
END:STANDARD
BEGIN:DAYLIGHT
TZOFFSETFROM:-0500
TZOFFSETTO:-0400
TZNAME:EDT
DTSTART:20250309T070000
END:DAYLIGHT
BEGIN:STANDARD
TZOFFSETFROM:-0400
TZOFFSETTO:-0500
TZNAME:EST
DTSTART:20251102T060000
END:STANDARD
END:VTIMEZONE
BEGIN:VEVENT
DTSTART;TZID=America/New_York:20241026T130000
DTEND;TZID=America/New_York:20241026T160000
DTSTAMP:20260422T024649
CREATED:20241003T033901Z
LAST-MODIFIED:20241021T232407Z
UID:10000204-1729947600-1729958400@brooklyncb6.cityofnewyork.us
SUMMARY:Gowanus Dredgers- Free Walk-Up Paddling From 2nd St.
DESCRIPTION:
URL:https://brooklyncb6.cityofnewyork.us/event/gowanus-dredgers-free-walk-up-paddling-from-2nd-st-3/2024-10-26/2/
LOCATION:Gowanus Dredgers Boathouse\, 165 2nd St\, Brooklyn\, NY\, 11231\, United States
ORGANIZER;CN="Gowanus Dredgers":MAILTO:info@gowanusdredgers.org
END:VEVENT
BEGIN:VEVENT
DTSTART;TZID=America/New_York:20241026T080000
DTEND;TZID=America/New_York:20241026T170000
DTSTAMP:20260422T024649
CREATED:20241003T033901Z
LAST-MODIFIED:20241021T232407Z
UID:10000203-1729929600-1729962000@brooklyncb6.cityofnewyork.us
SUMMARY:Gowanus Dredgers- Free Walk-Up Paddling From 2nd St.
DESCRIPTION:
URL:https://brooklyncb6.cityofnewyork.us/event/gowanus-dredgers-free-walk-up-paddling-from-2nd-st-3/2024-10-26/1/
LOCATION:Gowanus Dredgers Boathouse\, 165 2nd St\, Brooklyn\, NY\, 11231\, United States
ORGANIZER;CN="Gowanus Dredgers":MAILTO:info@gowanusdredgers.org
END:VEVENT
BEGIN:VEVENT
DTSTART;TZID=America/New_York:20241019T140000
DTEND;TZID=America/New_York:20241019T180000
DTSTAMP:20260422T024649
CREATED:20241003T033737Z
LAST-MODIFIED:20241003T033737Z
UID:10000094-1729346400-1729360800@brooklyncb6.cityofnewyork.us
SUMMARY:Gowanus Dredgers- Free Walk-Up Paddling From 2nd St.
DESCRIPTION:
URL:https://brooklyncb6.cityofnewyork.us/event/gowanus-dredgers-free-walk-up-paddling-from-2nd-st-2/
LOCATION:Gowanus Dredgers Boathouse\, 165 2nd St\, Brooklyn\, NY\, 11231\, United States
ORGANIZER;CN="Gowanus Dredgers":MAILTO:info@gowanusdredgers.org
END:VEVENT
BEGIN:VEVENT
DTSTART;TZID=America/New_York:20241006T130000
DTEND;TZID=America/New_York:20241006T160000
DTSTAMP:20260422T024649
CREATED:20241003T033600Z
LAST-MODIFIED:20241003T033600Z
UID:10000093-1728219600-1728230400@brooklyncb6.cityofnewyork.us
SUMMARY:Gowanus Dredgers- Free Walk-Up Paddling From 2nd St.
DESCRIPTION:
URL:https://brooklyncb6.cityofnewyork.us/event/gowanus-dredgers-free-walk-up-paddling-from-2nd-st/
LOCATION:Gowanus Dredgers Boathouse\, 165 2nd St\, Brooklyn\, NY\, 11231\, United States
ORGANIZER;CN="Gowanus Dredgers":MAILTO:info@gowanusdredgers.org
END:VEVENT
END:VCALENDAR