BEGIN:VCALENDAR
VERSION:2.0
PRODID:-//Brooklyn Community Board 6 - ECPv6.15.20//NONSGML v1.0//EN
CALSCALE:GREGORIAN
METHOD:PUBLISH
X-WR-CALNAME:Brooklyn Community Board 6
X-ORIGINAL-URL:https://brooklyncb6.cityofnewyork.us
X-WR-CALDESC:Events for Brooklyn Community Board 6
REFRESH-INTERVAL;VALUE=DURATION:PT1H
X-Robots-Tag:noindex
X-PUBLISHED-TTL:PT1H
BEGIN:VTIMEZONE
TZID:America/New_York
BEGIN:DAYLIGHT
TZOFFSETFROM:-0500
TZOFFSETTO:-0400
TZNAME:EDT
DTSTART:20230312T070000
END:DAYLIGHT
BEGIN:STANDARD
TZOFFSETFROM:-0400
TZOFFSETTO:-0500
TZNAME:EST
DTSTART:20231105T060000
END:STANDARD
BEGIN:DAYLIGHT
TZOFFSETFROM:-0500
TZOFFSETTO:-0400
TZNAME:EDT
DTSTART:20240310T070000
END:DAYLIGHT
BEGIN:STANDARD
TZOFFSETFROM:-0400
TZOFFSETTO:-0500
TZNAME:EST
DTSTART:20241103T060000
END:STANDARD
BEGIN:DAYLIGHT
TZOFFSETFROM:-0500
TZOFFSETTO:-0400
TZNAME:EDT
DTSTART:20250309T070000
END:DAYLIGHT
BEGIN:STANDARD
TZOFFSETFROM:-0400
TZOFFSETTO:-0500
TZNAME:EST
DTSTART:20251102T060000
END:STANDARD
END:VTIMEZONE
BEGIN:VEVENT
DTSTART;TZID=America/New_York:20241011T080000
DTEND;TZID=America/New_York:20241011T170000
DTSTAMP:20260423T102521
CREATED:20241011T203347Z
LAST-MODIFIED:20241011T203505Z
UID:10000169-1728633600-1728666000@brooklyncb6.cityofnewyork.us
SUMMARY:A New Video Installation from Jamie Courville & Chris Reynolds- Part of Gowanus Open Studios
DESCRIPTION:Click the image or here for more information.
URL:https://brooklyncb6.cityofnewyork.us/event/a-new-video-installation-from-jamie-courville-chris-reynolds-part-of-gowanus-open-studios/
LOCATION:280  Nevins- Gowanus Open Studios\, 280 Nevins Street- 3rd Floor\, Brooklyn\, NY\, 11217\, United States
END:VEVENT
END:VCALENDAR