BEGIN:VCALENDAR
VERSION:2.0
PRODID:-//Brooklyn Community Board 6 - ECPv6.15.20//NONSGML v1.0//EN
CALSCALE:GREGORIAN
METHOD:PUBLISH
X-WR-CALNAME:Brooklyn Community Board 6
X-ORIGINAL-URL:https://brooklyncb6.cityofnewyork.us
X-WR-CALDESC:Events for Brooklyn Community Board 6
REFRESH-INTERVAL;VALUE=DURATION:PT1H
X-Robots-Tag:noindex
X-PUBLISHED-TTL:PT1H
BEGIN:VTIMEZONE
TZID:America/New_York
BEGIN:DAYLIGHT
TZOFFSETFROM:-0500
TZOFFSETTO:-0400
TZNAME:EDT
DTSTART:20250309T070000
END:DAYLIGHT
BEGIN:STANDARD
TZOFFSETFROM:-0400
TZOFFSETTO:-0500
TZNAME:EST
DTSTART:20251102T060000
END:STANDARD
BEGIN:DAYLIGHT
TZOFFSETFROM:-0500
TZOFFSETTO:-0400
TZNAME:EDT
DTSTART:20260308T070000
END:DAYLIGHT
BEGIN:STANDARD
TZOFFSETFROM:-0400
TZOFFSETTO:-0500
TZNAME:EST
DTSTART:20261101T060000
END:STANDARD
BEGIN:DAYLIGHT
TZOFFSETFROM:-0500
TZOFFSETTO:-0400
TZNAME:EDT
DTSTART:20270314T070000
END:DAYLIGHT
BEGIN:STANDARD
TZOFFSETFROM:-0400
TZOFFSETTO:-0500
TZNAME:EST
DTSTART:20271107T060000
END:STANDARD
END:VTIMEZONE
BEGIN:VEVENT
DTSTART;VALUE=DATE:20261003
DTEND;VALUE=DATE:20261004
DTSTAMP:20260424T032556
CREATED:20260112T033017Z
LAST-MODIFIED:20260112T033017Z
UID:10000465-1790985600-1791071999@brooklyncb6.cityofnewyork.us
SUMMARY:Alternate Side Parking Suspended
DESCRIPTION:Alternate Side Parking is suspended. Parking meters remain will remain in effect.
URL:https://brooklyncb6.cityofnewyork.us/event/alternate-side-parking-suspended-32/
LOCATION:NY
END:VEVENT
BEGIN:VEVENT
DTSTART;VALUE=DATE:20261004
DTEND;VALUE=DATE:20261005
DTSTAMP:20260424T032556
CREATED:20260112T033033Z
LAST-MODIFIED:20260112T033033Z
UID:10000466-1791072000-1791158399@brooklyncb6.cityofnewyork.us
SUMMARY:Alternate Side Parking Suspended
DESCRIPTION:Alternate Side Parking is suspended. Parking meters remain will remain in effect.
URL:https://brooklyncb6.cityofnewyork.us/event/alternate-side-parking-suspended-33/
LOCATION:NY
END:VEVENT
BEGIN:VEVENT
DTSTART;VALUE=DATE:20261012
DTEND;VALUE=DATE:20261013
DTSTAMP:20260424T032556
CREATED:20260112T033108Z
LAST-MODIFIED:20260112T033108Z
UID:10000468-1791763200-1791849599@brooklyncb6.cityofnewyork.us
SUMMARY:Alternate Side Parking Suspended
DESCRIPTION:Alternate Side Parking is suspended. Parking meters remain will remain in effect.
URL:https://brooklyncb6.cityofnewyork.us/event/alternate-side-parking-suspended-34/
LOCATION:NY
END:VEVENT
BEGIN:VEVENT
DTSTART;TZID=America/New_York:20261014T183000
DTEND;TZID=America/New_York:20261014T203000
DTSTAMP:20260424T032556
CREATED:20260114T042212Z
LAST-MODIFIED:20260114T042212Z
UID:10000306-1792002600-1792009800@brooklyncb6.cityofnewyork.us
SUMMARY:CB6 Full Board Meeting
DESCRIPTION:
URL:https://brooklyncb6.cityofnewyork.us/event/cb6-full-board-meeting-3-12/
LOCATION:NY
CATEGORIES:Full Board Meetings,Upcoming Meetings
END:VEVENT
BEGIN:VEVENT
DTSTART;TZID=America/New_York:20261015T183000
DTEND;TZID=America/New_York:20261015T200000
DTSTAMP:20260424T032556
CREATED:20260108T131620Z
LAST-MODIFIED:20260108T131620Z
UID:10000429-1792089000-1792094400@brooklyncb6.cityofnewyork.us
SUMMARY:CB6 Committee Meeting – Transportation\, Parks and Public Infrastructure Committee Meeting
DESCRIPTION:Agenda TBD
URL:https://brooklyncb6.cityofnewyork.us/event/cb6-committee-meeting-transportation-parks-and-public-infrastructure-committee-meeting-7/
LOCATION:NY
END:VEVENT
BEGIN:VEVENT
DTSTART;TZID=America/New_York:20261020T183000
DTEND;TZID=America/New_York:20261020T200000
DTSTAMP:20260424T032556
CREATED:20260108T130213Z
LAST-MODIFIED:20260108T130213Z
UID:10000416-1792521000-1792526400@brooklyncb6.cityofnewyork.us
SUMMARY:CB6 Committee Meeting- Human Services and Environmental Sustainability
DESCRIPTION:Agenda TBD
URL:https://brooklyncb6.cityofnewyork.us/event/cb6-committee-meeting-human-services-and-environmental-sustainability-5/
LOCATION:NY
END:VEVENT
BEGIN:VEVENT
DTSTART;TZID=America/New_York:20261023T183000
DTEND;TZID=America/New_York:20261023T200000
DTSTAMP:20260424T032556
CREATED:20260108T132322Z
LAST-MODIFIED:20260108T132322Z
UID:10000436-1792780200-1792785600@brooklyncb6.cityofnewyork.us
SUMMARY:CB6 Committee Meeting- Landmarks\, Land Use & Housing
DESCRIPTION:Agenda TBD
URL:https://brooklyncb6.cityofnewyork.us/event/cb6-committee-meeting-landmarks-land-use-housing-8/
LOCATION:NY
END:VEVENT
BEGIN:VEVENT
DTSTART;TZID=America/New_York:20261026T183000
DTEND;TZID=America/New_York:20261026T200000
DTSTAMP:20260424T032556
CREATED:20260108T131053Z
LAST-MODIFIED:20260108T131053Z
UID:10000423-1793039400-1793044800@brooklyncb6.cityofnewyork.us
SUMMARY:CB6 Committee Meeting Business Affairs and Licenses
DESCRIPTION:Agenda TBD
URL:https://brooklyncb6.cityofnewyork.us/event/cb6-committee-meeting-business-affairs-and-licenses-6/
LOCATION:NY
END:VEVENT
END:VCALENDAR