BEGIN:VCALENDAR
VERSION:2.0
PRODID:-//Brooklyn Community Board 6 - ECPv6.15.20//NONSGML v1.0//EN
CALSCALE:GREGORIAN
METHOD:PUBLISH
X-ORIGINAL-URL:https://brooklyncb6.cityofnewyork.us
X-WR-CALDESC:Events for Brooklyn Community Board 6
REFRESH-INTERVAL;VALUE=DURATION:PT1H
X-Robots-Tag:noindex
X-PUBLISHED-TTL:PT1H
BEGIN:VTIMEZONE
TZID:America/New_York
BEGIN:DAYLIGHT
TZOFFSETFROM:-0500
TZOFFSETTO:-0400
TZNAME:EDT
DTSTART:20240310T070000
END:DAYLIGHT
BEGIN:STANDARD
TZOFFSETFROM:-0400
TZOFFSETTO:-0500
TZNAME:EST
DTSTART:20241103T060000
END:STANDARD
BEGIN:DAYLIGHT
TZOFFSETFROM:-0500
TZOFFSETTO:-0400
TZNAME:EDT
DTSTART:20250309T070000
END:DAYLIGHT
BEGIN:STANDARD
TZOFFSETFROM:-0400
TZOFFSETTO:-0500
TZNAME:EST
DTSTART:20251102T060000
END:STANDARD
BEGIN:DAYLIGHT
TZOFFSETFROM:-0500
TZOFFSETTO:-0400
TZNAME:EDT
DTSTART:20260308T070000
END:DAYLIGHT
BEGIN:STANDARD
TZOFFSETFROM:-0400
TZOFFSETTO:-0500
TZNAME:EST
DTSTART:20261101T060000
END:STANDARD
END:VTIMEZONE
BEGIN:VEVENT
DTSTART;TZID=America/New_York:20251201T180000
DTEND;TZID=America/New_York:20251201T213000
DTSTAMP:20260422T214732
CREATED:20251022T203736Z
LAST-MODIFIED:20251201T194110Z
UID:10000375-1764612000-1764624600@brooklyncb6.cityofnewyork.us
SUMMARY:Brooklyn Marine Terminal  In-Person Scoping Hearing
DESCRIPTION:Please note that the comment period has been extended until March 31\, 2026. \n\n\n\n 
URL:https://brooklyncb6.cityofnewyork.us/event/brooklyn-marine-terminal-in-person-scoping-hearing/
LOCATION:Sacred Hearts of Jesus and Mary & St. Stephen Roman Catholic Church  125 Summit Street Brooklyn\, NY 11231\, 125 Summit Street\, Brooklyn\, NY\, NY\, 11231\, United States
END:VEVENT
BEGIN:VEVENT
DTSTART;TZID=America/New_York:20251204T183000
DTEND;TZID=America/New_York:20251204T183000
DTSTAMP:20260422T214732
CREATED:20251024T160808Z
LAST-MODIFIED:20251204T205606Z
UID:10000378-1764873000-1764873000@brooklyncb6.cityofnewyork.us
SUMMARY:CB6 Landmarks\, Land Use & Housing Committee Meeting
DESCRIPTION:DCP Presentation on the NYC Industrial Plan Draft Report.\n 	362 Clinton Street–  Landmarks application for a Certificate of Appropriateness to allow for a rear yard extension. \n 	Application materials available here. \n 	Comment form here. \n\nRegister for the Zoom option here\, but please be advised that if you want to participate in the meeting\, we strongly encourage you to attend in person at 139 9th St\, Brooklyn\, NY 11215.\n\n \n\n \n\n \n\n 
URL:https://brooklyncb6.cityofnewyork.us/event/cb6-landmarks-land-use-housing-committee-meeting-5/
LOCATION:Principles GI Coffee House\, 139 9th Street\, Brooklyn\, 11215\, United States
ORGANIZER;CN="Brooklyn Community Board 6":MAILTO:info@bkcb6.org
END:VEVENT
BEGIN:VEVENT
DTSTART;VALUE=DATE:20251208
DTEND;VALUE=DATE:20251209
DTSTAMP:20260422T214732
CREATED:20251013T183011Z
LAST-MODIFIED:20251013T183011Z
UID:10000334-1765152000-1765238399@brooklyncb6.cityofnewyork.us
SUMMARY:Alternate Side Parking Suspended
DESCRIPTION:Go to bit.ly/cb6asp2025 for the full-year ASP calendar.
URL:https://brooklyncb6.cityofnewyork.us/event/alternate-side-parking-suspended-5/
LOCATION:NY
END:VEVENT
BEGIN:VEVENT
DTSTART;TZID=America/New_York:20251210T183000
DTEND;TZID=America/New_York:20251210T203000
DTSTAMP:20260422T214732
CREATED:20251204T211428Z
LAST-MODIFIED:20251210T005034Z
UID:10000297-1765391400-1765398600@brooklyncb6.cityofnewyork.us
SUMMARY:CB6 Full Board Meeting
DESCRIPTION:Register for Zoom here.  
URL:https://brooklyncb6.cityofnewyork.us/event/cb6-full-board-meeting-3-4/
LOCATION:Van Alen Institute\, 303 Bond Street\, Brooklyn\, NY\, 11231\, United States
CATEGORIES:Upcoming Meetings
ORGANIZER;CN="Brooklyn Community Board 6":MAILTO:info@bkcb6.org
END:VEVENT
BEGIN:VEVENT
DTSTART;TZID=America/New_York:20251219T100000
DTEND;TZID=America/New_York:20251219T113000
DTSTAMP:20260422T214732
CREATED:20251219T141025Z
LAST-MODIFIED:20251219T141205Z
UID:10000400-1766138400-1766143800@brooklyncb6.cityofnewyork.us
SUMMARY:Brooklyn Marine Terminal Development Corporation Meeting
DESCRIPTION:Screenshot
URL:https://brooklyncb6.cityofnewyork.us/event/brooklyn-marine-terminal-development-corporation-meeting/
LOCATION:Brooklyn Borough Hall\, 209 Joralemon St\, Brooklyn\, NY\, 11201\, United States
END:VEVENT
BEGIN:VEVENT
DTSTART;VALUE=DATE:20251224
DTEND;VALUE=DATE:20251225
DTSTAMP:20260422T214732
CREATED:20251013T190855Z
LAST-MODIFIED:20251013T190855Z
UID:10000342-1766534400-1766620799@brooklyncb6.cityofnewyork.us
SUMMARY:NYC Public Schools Closed
DESCRIPTION:Full school calendar @ schools.nyc.gov/calendar.
URL:https://brooklyncb6.cityofnewyork.us/event/nyc-public-schools-closed-7/
LOCATION:NY
END:VEVENT
BEGIN:VEVENT
DTSTART;VALUE=DATE:20251225
DTEND;VALUE=DATE:20251226
DTSTAMP:20260422T214732
CREATED:20251013T183121Z
LAST-MODIFIED:20251013T183121Z
UID:10000335-1766620800-1766707199@brooklyncb6.cityofnewyork.us
SUMMARY:Alternate Side Parking Suspended
DESCRIPTION: \n\nGo to bit.ly/cb6asp2025 for the full-year ASP calendar.
URL:https://brooklyncb6.cityofnewyork.us/event/alternate-side-parking-suspended-6/
LOCATION:NY
END:VEVENT
BEGIN:VEVENT
DTSTART;VALUE=DATE:20251225
DTEND;VALUE=DATE:20251226
DTSTAMP:20260422T214732
CREATED:20251013T191020Z
LAST-MODIFIED:20251013T191020Z
UID:10000343-1766620800-1766707199@brooklyncb6.cityofnewyork.us
SUMMARY:NYC Public Schools Closed
DESCRIPTION:Full school calendar @ schools.nyc.gov/calendar.
URL:https://brooklyncb6.cityofnewyork.us/event/nyc-public-schools-closed-8/
LOCATION:NY
END:VEVENT
BEGIN:VEVENT
DTSTART;VALUE=DATE:20251226
DTEND;VALUE=DATE:20251227
DTSTAMP:20260422T214732
CREATED:20251013T191132Z
LAST-MODIFIED:20251013T191146Z
UID:10000344-1766707200-1766793599@brooklyncb6.cityofnewyork.us
SUMMARY:NYC Public Schools Closed
DESCRIPTION:Full school calendar @ schools.nyc.gov/calendar.\n\n \n\n \n\n 
URL:https://brooklyncb6.cityofnewyork.us/event/nyc-public-schools-closed-9/
LOCATION:NY
END:VEVENT
BEGIN:VEVENT
DTSTART;VALUE=DATE:20251229
DTEND;VALUE=DATE:20251230
DTSTAMP:20260422T214732
CREATED:20251013T191349Z
LAST-MODIFIED:20251013T191349Z
UID:10000345-1766966400-1767052799@brooklyncb6.cityofnewyork.us
SUMMARY:NYC Public Schools Closed
DESCRIPTION:Full school calendar @ schools.nyc.gov/calendar.
URL:https://brooklyncb6.cityofnewyork.us/event/nyc-public-schools-closed-10/
LOCATION:NY
END:VEVENT
BEGIN:VEVENT
DTSTART;VALUE=DATE:20251230
DTEND;VALUE=DATE:20251231
DTSTAMP:20260422T214732
CREATED:20251013T191449Z
LAST-MODIFIED:20251013T191449Z
UID:10000346-1767052800-1767139199@brooklyncb6.cityofnewyork.us
SUMMARY:NYC Public Schools Closed
DESCRIPTION:Full school calendar @ schools.nyc.gov/calendar.
URL:https://brooklyncb6.cityofnewyork.us/event/nyc-public-schools-closed-11/
LOCATION:NY
END:VEVENT
BEGIN:VEVENT
DTSTART;VALUE=DATE:20251231
DTEND;VALUE=DATE:20260101
DTSTAMP:20260422T214732
CREATED:20251013T191550Z
LAST-MODIFIED:20251013T191550Z
UID:10000347-1767139200-1767225599@brooklyncb6.cityofnewyork.us
SUMMARY:NYC Public Schools Closed
DESCRIPTION:Full school calendar @ schools.nyc.gov/calendar.
URL:https://brooklyncb6.cityofnewyork.us/event/nyc-public-schools-closed-12/
LOCATION:NY
END:VEVENT
END:VCALENDAR