BEGIN:VCALENDAR
VERSION:2.0
PRODID:-//Brooklyn Community Board 6 - ECPv6.15.20//NONSGML v1.0//EN
CALSCALE:GREGORIAN
METHOD:PUBLISH
X-WR-CALNAME:Brooklyn Community Board 6
X-ORIGINAL-URL:https://brooklyncb6.cityofnewyork.us
X-WR-CALDESC:Events for Brooklyn Community Board 6
REFRESH-INTERVAL;VALUE=DURATION:PT1H
X-Robots-Tag:noindex
X-PUBLISHED-TTL:PT1H
BEGIN:VTIMEZONE
TZID:America/New_York
BEGIN:DAYLIGHT
TZOFFSETFROM:-0500
TZOFFSETTO:-0400
TZNAME:EDT
DTSTART:20240310T070000
END:DAYLIGHT
BEGIN:STANDARD
TZOFFSETFROM:-0400
TZOFFSETTO:-0500
TZNAME:EST
DTSTART:20241103T060000
END:STANDARD
BEGIN:DAYLIGHT
TZOFFSETFROM:-0500
TZOFFSETTO:-0400
TZNAME:EDT
DTSTART:20250309T070000
END:DAYLIGHT
BEGIN:STANDARD
TZOFFSETFROM:-0400
TZOFFSETTO:-0500
TZNAME:EST
DTSTART:20251102T060000
END:STANDARD
BEGIN:DAYLIGHT
TZOFFSETFROM:-0500
TZOFFSETTO:-0400
TZNAME:EDT
DTSTART:20260308T070000
END:DAYLIGHT
BEGIN:STANDARD
TZOFFSETFROM:-0400
TZOFFSETTO:-0500
TZNAME:EST
DTSTART:20261101T060000
END:STANDARD
END:VTIMEZONE
BEGIN:VEVENT
DTSTART;TZID=America/New_York:20251204T183000
DTEND;TZID=America/New_York:20251204T183000
DTSTAMP:20260423T194129
CREATED:20251024T160808Z
LAST-MODIFIED:20251204T205606Z
UID:10000378-1764873000-1764873000@brooklyncb6.cityofnewyork.us
SUMMARY:CB6 Landmarks\, Land Use & Housing Committee Meeting
DESCRIPTION:DCP Presentation on the NYC Industrial Plan Draft Report.\n 	362 Clinton Street–  Landmarks application for a Certificate of Appropriateness to allow for a rear yard extension. \n 	Application materials available here. \n 	Comment form here. \n\nRegister for the Zoom option here\, but please be advised that if you want to participate in the meeting\, we strongly encourage you to attend in person at 139 9th St\, Brooklyn\, NY 11215.\n\n \n\n \n\n \n\n 
URL:https://brooklyncb6.cityofnewyork.us/event/cb6-landmarks-land-use-housing-committee-meeting-5/
LOCATION:Principles GI Coffee House\, 139 9th Street\, Brooklyn\, 11215\, United States
ORGANIZER;CN="Brooklyn Community Board 6":MAILTO:info@bkcb6.org
END:VEVENT
END:VCALENDAR