BEGIN:VCALENDAR
VERSION:2.0
PRODID:-//Brooklyn Community Board 6 - ECPv6.15.20//NONSGML v1.0//EN
CALSCALE:GREGORIAN
METHOD:PUBLISH
X-ORIGINAL-URL:https://brooklyncb6.cityofnewyork.us
X-WR-CALDESC:Events for Brooklyn Community Board 6
REFRESH-INTERVAL;VALUE=DURATION:PT1H
X-Robots-Tag:noindex
X-PUBLISHED-TTL:PT1H
BEGIN:VTIMEZONE
TZID:America/New_York
BEGIN:DAYLIGHT
TZOFFSETFROM:-0500
TZOFFSETTO:-0400
TZNAME:EDT
DTSTART:20240310T070000
END:DAYLIGHT
BEGIN:STANDARD
TZOFFSETFROM:-0400
TZOFFSETTO:-0500
TZNAME:EST
DTSTART:20241103T060000
END:STANDARD
BEGIN:DAYLIGHT
TZOFFSETFROM:-0500
TZOFFSETTO:-0400
TZNAME:EDT
DTSTART:20250309T070000
END:DAYLIGHT
BEGIN:STANDARD
TZOFFSETFROM:-0400
TZOFFSETTO:-0500
TZNAME:EST
DTSTART:20251102T060000
END:STANDARD
BEGIN:DAYLIGHT
TZOFFSETFROM:-0500
TZOFFSETTO:-0400
TZNAME:EDT
DTSTART:20260308T070000
END:DAYLIGHT
BEGIN:STANDARD
TZOFFSETFROM:-0400
TZOFFSETTO:-0500
TZNAME:EST
DTSTART:20261101T060000
END:STANDARD
END:VTIMEZONE
BEGIN:VEVENT
DTSTART;TZID=America/New_York:20251029T100000
DTEND;TZID=America/New_York:20251029T200000
DTSTAMP:20260425T165137
CREATED:20251014T161430Z
LAST-MODIFIED:20251014T161450Z
UID:10000359-1761732000-1761768000@brooklyncb6.cityofnewyork.us
SUMMARY:Early Voting – Polls Open from 10 am until 8 PM
DESCRIPTION:findmypollsite.vote.nyc/
URL:https://brooklyncb6.cityofnewyork.us/event/early-voting-polls-open-from-10-am-until-8-pm/
LOCATION:findmypollsite.vote.nyc/
END:VEVENT
BEGIN:VEVENT
DTSTART;TZID=America/New_York:20251029T180000
DTEND;TZID=America/New_York:20251029T200000
DTSTAMP:20260425T165137
CREATED:20251023T041113Z
LAST-MODIFIED:20251023T174625Z
UID:10000376-1761760800-1761768000@brooklyncb6.cityofnewyork.us
SUMMARY:Forth on Fourth Ave (FOFA) General Meeting
DESCRIPTION:Click here for the agenda. 
URL:https://brooklyncb6.cityofnewyork.us/event/forth-on-fourth-ave-fofa-general-meeting/
LOCATION:Brooklyn Society For Ethical Culture\, 269 4th Avenue\, Brooklyn\, NY\, 11215\, United States
ORGANIZER;CN="Forth on Fourth Ave (FOFA)":MAILTO:info@4fofa.org
END:VEVENT
END:VCALENDAR