BEGIN:VCALENDAR
VERSION:2.0
PRODID:-//Brooklyn Community Board 6 - ECPv6.15.20//NONSGML v1.0//EN
CALSCALE:GREGORIAN
METHOD:PUBLISH
X-ORIGINAL-URL:https://brooklyncb6.cityofnewyork.us
X-WR-CALDESC:Events for Brooklyn Community Board 6
REFRESH-INTERVAL;VALUE=DURATION:PT1H
X-Robots-Tag:noindex
X-PUBLISHED-TTL:PT1H
BEGIN:VTIMEZONE
TZID:America/New_York
BEGIN:DAYLIGHT
TZOFFSETFROM:-0500
TZOFFSETTO:-0400
TZNAME:EDT
DTSTART:20240310T070000
END:DAYLIGHT
BEGIN:STANDARD
TZOFFSETFROM:-0400
TZOFFSETTO:-0500
TZNAME:EST
DTSTART:20241103T060000
END:STANDARD
BEGIN:DAYLIGHT
TZOFFSETFROM:-0500
TZOFFSETTO:-0400
TZNAME:EDT
DTSTART:20250309T070000
END:DAYLIGHT
BEGIN:STANDARD
TZOFFSETFROM:-0400
TZOFFSETTO:-0500
TZNAME:EST
DTSTART:20251102T060000
END:STANDARD
BEGIN:DAYLIGHT
TZOFFSETFROM:-0500
TZOFFSETTO:-0400
TZNAME:EDT
DTSTART:20260308T070000
END:DAYLIGHT
BEGIN:STANDARD
TZOFFSETFROM:-0400
TZOFFSETTO:-0500
TZNAME:EST
DTSTART:20261101T060000
END:STANDARD
END:VTIMEZONE
BEGIN:VEVENT
DTSTART;TZID=America/New_York:20251027T090000
DTEND;TZID=America/New_York:20251027T170000
DTSTAMP:20260425T185614
CREATED:20251014T161118Z
LAST-MODIFIED:20251014T161118Z
UID:10000357-1761555600-1761584400@brooklyncb6.cityofnewyork.us
SUMMARY:Early Voting - Polls Open from 9 am until 5 PM
DESCRIPTION:findmypollsite.vote.nyc/\n 
URL:https://brooklyncb6.cityofnewyork.us/event/early-voting-polls-open-from-9-am-until-5-pm-3/
LOCATION:findmypollsite.vote.nyc/
END:VEVENT
BEGIN:VEVENT
DTSTART;TZID=America/New_York:20251027T100000
DTEND;TZID=America/New_York:20251027T150000
DTSTAMP:20260425T185614
CREATED:20251026T015843Z
LAST-MODIFIED:20251026T015855Z
UID:10000381-1761559200-1761577200@brooklyncb6.cityofnewyork.us
SUMMARY:Sexual Health Mobile Medical Unit
DESCRIPTION:Click here or on the graphic above for more information. 
URL:https://brooklyncb6.cityofnewyork.us/event/sexual-health-mobile-medical-unit/
LOCATION:Prospect Park
ORGANIZER;CN="Prospect Park Alliance":MAILTO:info@prospectpark.org
END:VEVENT
BEGIN:VEVENT
DTSTART;TZID=America/New_York:20251027T183000
DTEND;TZID=America/New_York:20251027T183000
DTSTAMP:20260425T185614
CREATED:20251014T042400Z
LAST-MODIFIED:20251027T151300Z
UID:10000350-1761589800-1761589800@brooklyncb6.cityofnewyork.us
SUMMARY:CB6 Business Affairs & Licenses Meeting
DESCRIPTION:To review applications for new liquor licenses at the addresses listed below:\n\n 	238 Court Street – Italian restaurant taking over Sam’s. \n 	482 Court Street – small bar with emphasis on shared plates and wine by the glass.\n 	550 Court Street– Indian Restaurant.\n\nApplication materials available here.\n\nComment form.\n\n 
URL:https://brooklyncb6.cityofnewyork.us/event/cb6-business-affairs-licenses-meeting/
LOCATION:250 Baltic Street- Cobble Hill Community Room/ Carroll Gardens Pop-Up Library\, 250 Baltic Street\, Brooklyn\, NY\, 11201\, United States
CATEGORIES:Upcoming Meetings
ORGANIZER;CN="Brooklyn Community Board 6":MAILTO:info@bkcb6.org
END:VEVENT
END:VCALENDAR