BEGIN:VCALENDAR
VERSION:2.0
PRODID:-//Brooklyn Community Board 6 - ECPv6.15.20//NONSGML v1.0//EN
CALSCALE:GREGORIAN
METHOD:PUBLISH
X-WR-CALNAME:Brooklyn Community Board 6
X-ORIGINAL-URL:https://brooklyncb6.cityofnewyork.us
X-WR-CALDESC:Events for Brooklyn Community Board 6
REFRESH-INTERVAL;VALUE=DURATION:PT1H
X-Robots-Tag:noindex
X-PUBLISHED-TTL:PT1H
BEGIN:VTIMEZONE
TZID:America/New_York
BEGIN:DAYLIGHT
TZOFFSETFROM:-0500
TZOFFSETTO:-0400
TZNAME:EDT
DTSTART:20240310T070000
END:DAYLIGHT
BEGIN:STANDARD
TZOFFSETFROM:-0400
TZOFFSETTO:-0500
TZNAME:EST
DTSTART:20241103T060000
END:STANDARD
BEGIN:DAYLIGHT
TZOFFSETFROM:-0500
TZOFFSETTO:-0400
TZNAME:EDT
DTSTART:20250309T070000
END:DAYLIGHT
BEGIN:STANDARD
TZOFFSETFROM:-0400
TZOFFSETTO:-0500
TZNAME:EST
DTSTART:20251102T060000
END:STANDARD
BEGIN:DAYLIGHT
TZOFFSETFROM:-0500
TZOFFSETTO:-0400
TZNAME:EDT
DTSTART:20260308T070000
END:DAYLIGHT
BEGIN:STANDARD
TZOFFSETFROM:-0400
TZOFFSETTO:-0500
TZNAME:EST
DTSTART:20261101T060000
END:STANDARD
END:VTIMEZONE
BEGIN:VEVENT
DTSTART;TZID=America/New_York:20251026T083000
DTEND;TZID=America/New_York:20251026T113000
DTSTAMP:20260424T001106
CREATED:20251027T162334Z
LAST-MODIFIED:20251027T162334Z
UID:10000385-1761467400-1761478200@brooklyncb6.cityofnewyork.us
SUMMARY:8th Annual Cobble Hill Halloween Window Painting
DESCRIPTION:Click here or on the graphic above for more information. 
URL:https://brooklyncb6.cityofnewyork.us/event/8th-annual-cobble-hill-halloween-window-painting/
LOCATION:Court Street\, Brooklyn\, NY\, United States
ORGANIZER;CN="Cobble Hill Association":MAILTO:CHA@cobblehill.nyc
END:VEVENT
BEGIN:VEVENT
DTSTART;TZID=America/New_York:20251026T090000
DTEND;TZID=America/New_York:20251026T170000
DTSTAMP:20260424T001106
CREATED:20251014T160858Z
LAST-MODIFIED:20251014T160920Z
UID:10000356-1761469200-1761498000@brooklyncb6.cityofnewyork.us
SUMMARY:Early Voting - Polls Open from 9 am until 5 PM
DESCRIPTION:findmypollsite.vote.nyc/
URL:https://brooklyncb6.cityofnewyork.us/event/early-voting-polls-open-from-9-am-until-5-pm-2/
LOCATION:findmypollsite.vote.nyc/
END:VEVENT
BEGIN:VEVENT
DTSTART;TZID=America/New_York:20251026T090000
DTEND;TZID=America/New_York:20251026T180000
DTSTAMP:20260424T001106
CREATED:20251026T013932Z
LAST-MODIFIED:20251026T014009Z
UID:10000380-1761469200-1761501600@brooklyncb6.cityofnewyork.us
SUMMARY:Prospect Park Events for Sunday\, October 26th
DESCRIPTION:Prospect Park is one of the great jewels of New York City\, and today it’s showing off. From greenmarkets and festivals to free family programs and volunteer events\, something is happening in nearly every corner of the park. 🌳 It’s one of the most popular spots for people from across Brooklyn Community Board 6 and beyond\, bringing together neighbors from all walks of life. \nClick here or on the graphic above to see all of today’s scheduled events in Prospect Park. \n\nProspect Park is one of the great jewels of New York City\, and today it’s showing off. From greenmarkets and festivals to free family programs and volunteer events\, something is happening in nearly every corner of the park. 🌳 It’s one of the most popular spots for people from across Brooklyn Community Board 6 and beyond\, bringing together neighbors from all walks of life. \nClick here or on the graphic above to see all of today’s scheduled events in Prospect Park. \n 
URL:https://brooklyncb6.cityofnewyork.us/event/prospect-park-events-for-sunday-october-26th/
LOCATION:Prospect Park
ORGANIZER;CN="Prospect Park Alliance":MAILTO:info@prospectpark.org
END:VEVENT
BEGIN:VEVENT
DTSTART;TZID=America/New_York:20251026T100000
DTEND;TZID=America/New_York:20251026T100000
DTSTAMP:20260424T001106
CREATED:20251015T123838Z
LAST-MODIFIED:20251015T124104Z
UID:10000366-1761472800-1761472800@brooklyncb6.cityofnewyork.us
SUMMARY:Street Cleanup- DISTRICT 39 CLEANUP CREW
DESCRIPTION:Register here.
URL:https://brooklyncb6.cityofnewyork.us/event/street-cleanup-district-39-cleanup-crew/
LOCATION:4th Street & Bond Street\, 4th Street & Bond Street (421-431 Bond St)\, Brooklyn\, NY\, 11231\, United States
END:VEVENT
BEGIN:VEVENT
DTSTART;TZID=America/New_York:20251026T100000
DTEND;TZID=America/New_York:20251026T120000
DTSTAMP:20260424T001106
CREATED:20251027T143937Z
LAST-MODIFIED:20251027T161723Z
UID:10000383-1761472800-1761480000@brooklyncb6.cityofnewyork.us
SUMMARY:The Annual Urban Meadow Halloween Parade
DESCRIPTION:
URL:https://brooklyncb6.cityofnewyork.us/event/the-annual-urban-meadow-halloween-parade/
LOCATION:Urban Meadow\, 39 President Street\, Brooklyn\, NY\, 11231\, United States
END:VEVENT
END:VCALENDAR