BEGIN:VCALENDAR
VERSION:2.0
PRODID:-//Brooklyn Community Board 6 - ECPv6.15.20//NONSGML v1.0//EN
CALSCALE:GREGORIAN
METHOD:PUBLISH
X-WR-CALNAME:Brooklyn Community Board 6
X-ORIGINAL-URL:https://brooklyncb6.cityofnewyork.us
X-WR-CALDESC:Events for Brooklyn Community Board 6
REFRESH-INTERVAL;VALUE=DURATION:PT1H
X-Robots-Tag:noindex
X-PUBLISHED-TTL:PT1H
BEGIN:VTIMEZONE
TZID:America/New_York
BEGIN:DAYLIGHT
TZOFFSETFROM:-0500
TZOFFSETTO:-0400
TZNAME:EDT
DTSTART:20240310T070000
END:DAYLIGHT
BEGIN:STANDARD
TZOFFSETFROM:-0400
TZOFFSETTO:-0500
TZNAME:EST
DTSTART:20241103T060000
END:STANDARD
BEGIN:DAYLIGHT
TZOFFSETFROM:-0500
TZOFFSETTO:-0400
TZNAME:EDT
DTSTART:20250309T070000
END:DAYLIGHT
BEGIN:STANDARD
TZOFFSETFROM:-0400
TZOFFSETTO:-0500
TZNAME:EST
DTSTART:20251102T060000
END:STANDARD
BEGIN:DAYLIGHT
TZOFFSETFROM:-0500
TZOFFSETTO:-0400
TZNAME:EDT
DTSTART:20260308T070000
END:DAYLIGHT
BEGIN:STANDARD
TZOFFSETFROM:-0400
TZOFFSETTO:-0500
TZNAME:EST
DTSTART:20261101T060000
END:STANDARD
END:VTIMEZONE
BEGIN:VEVENT
DTSTART;TZID=America/New_York:20251023T180000
DTEND;TZID=America/New_York:20251023T200000
DTSTAMP:20260424T001120
CREATED:20251022T133839Z
LAST-MODIFIED:20251022T202556Z
UID:10000374-1761242400-1761249600@brooklyncb6.cityofnewyork.us
SUMMARY:BMT Virtual Meeting
DESCRIPTION: 
URL:https://brooklyncb6.cityofnewyork.us/event/bmt-virtual-meeting/
LOCATION:Zoom
END:VEVENT
BEGIN:VEVENT
DTSTART;TZID=America/New_York:20251023T183000
DTEND;TZID=America/New_York:20251023T183000
DTSTAMP:20260424T001120
CREATED:20251007T224807Z
LAST-MODIFIED:20251021T213638Z
UID:10000313-1761244200-1761244200@brooklyncb6.cityofnewyork.us
SUMMARY:CB6 Landmarks\, Land Use & Housing Committee Meeting
DESCRIPTION:Agenda\n\n 	26 Verandah Place – Landmarks application for a Certificate of Appropriateness (C of A) to allow for a rear yard extension. Click here for application materials.\n 	Fiscal Year 2027 district needs discussion.\n 	Comment Form.\n\nYou’re strongly encouraged to attend in person if you’d like to participate in the meeting\, but there is a virtual option.
URL:https://brooklyncb6.cityofnewyork.us/event/cb6-landmarks-land-use-housing-committee-meeting-4/
LOCATION:250 Baltic Street- Cobble Hill Community Room/ Carroll Gardens Pop-Up Library\, 250 Baltic Street\, Brooklyn\, NY\, 11201\, United States
CATEGORIES:Upcoming Meetings
ORGANIZER;CN="Brooklyn Community Board 6":MAILTO:info@bkcb6.org
END:VEVENT
END:VCALENDAR