BEGIN:VCALENDAR
VERSION:2.0
PRODID:-//Brooklyn Community Board 6 - ECPv6.15.20//NONSGML v1.0//EN
CALSCALE:GREGORIAN
METHOD:PUBLISH
X-ORIGINAL-URL:https://brooklyncb6.cityofnewyork.us
X-WR-CALDESC:Events for Brooklyn Community Board 6
REFRESH-INTERVAL;VALUE=DURATION:PT1H
X-Robots-Tag:noindex
X-PUBLISHED-TTL:PT1H
BEGIN:VTIMEZONE
TZID:America/New_York
BEGIN:DAYLIGHT
TZOFFSETFROM:-0500
TZOFFSETTO:-0400
TZNAME:EDT
DTSTART:20240310T070000
END:DAYLIGHT
BEGIN:STANDARD
TZOFFSETFROM:-0400
TZOFFSETTO:-0500
TZNAME:EST
DTSTART:20241103T060000
END:STANDARD
BEGIN:DAYLIGHT
TZOFFSETFROM:-0500
TZOFFSETTO:-0400
TZNAME:EDT
DTSTART:20250309T070000
END:DAYLIGHT
BEGIN:STANDARD
TZOFFSETFROM:-0400
TZOFFSETTO:-0500
TZNAME:EST
DTSTART:20251102T060000
END:STANDARD
BEGIN:DAYLIGHT
TZOFFSETFROM:-0500
TZOFFSETTO:-0400
TZNAME:EDT
DTSTART:20260308T070000
END:DAYLIGHT
BEGIN:STANDARD
TZOFFSETFROM:-0400
TZOFFSETTO:-0500
TZNAME:EST
DTSTART:20261101T060000
END:STANDARD
END:VTIMEZONE
BEGIN:VEVENT
DTSTART;TZID=America/New_York:20251016T180000
DTEND;TZID=America/New_York:20251016T180000
DTSTAMP:20260424T125317
CREATED:20251008T141518Z
LAST-MODIFIED:20251008T141543Z
UID:10000316-1760637600-1760637600@brooklyncb6.cityofnewyork.us
SUMMARY:DEP FLOOD PREPAREDNESS TOWN HALL
DESCRIPTION:
URL:https://brooklyncb6.cityofnewyork.us/event/dep-flood-preparedness-town-hall/
LOCATION:P.S 249 – The Caton School\, 18 Marlborough Road\, Brooklyn\, NY\, 11226\, United States
ORGANIZER;CN="NYC Department of Enviornmental Protection":MAILTO:communityaffairs@dep.nyc.gov
END:VEVENT
BEGIN:VEVENT
DTSTART;TZID=America/New_York:20251016T183000
DTEND;TZID=America/New_York:20251016T200000
DTSTAMP:20260424T125317
CREATED:20251016T200928Z
LAST-MODIFIED:20251016T201058Z
UID:10000373-1760639400-1760644800@brooklyncb6.cityofnewyork.us
SUMMARY:NYC Industrial Plan Town Hall at St Francis College
DESCRIPTION:RSVP.\n 	Industrial info and feedback form.
URL:https://brooklyncb6.cityofnewyork.us/event/nyc-industrial-plan-town-hall/
LOCATION:St Francis College\, 179 Livingston Street\, Brooklyn\, NY\, 11201\, United States
END:VEVENT
END:VCALENDAR