BEGIN:VCALENDAR
VERSION:2.0
PRODID:-//Brooklyn Community Board 6 - ECPv6.15.20//NONSGML v1.0//EN
CALSCALE:GREGORIAN
METHOD:PUBLISH
X-WR-CALNAME:Brooklyn Community Board 6
X-ORIGINAL-URL:https://brooklyncb6.cityofnewyork.us
X-WR-CALDESC:Events for Brooklyn Community Board 6
REFRESH-INTERVAL;VALUE=DURATION:PT1H
X-Robots-Tag:noindex
X-PUBLISHED-TTL:PT1H
BEGIN:VTIMEZONE
TZID:America/New_York
BEGIN:DAYLIGHT
TZOFFSETFROM:-0500
TZOFFSETTO:-0400
TZNAME:EDT
DTSTART:20230312T070000
END:DAYLIGHT
BEGIN:STANDARD
TZOFFSETFROM:-0400
TZOFFSETTO:-0500
TZNAME:EST
DTSTART:20231105T060000
END:STANDARD
BEGIN:DAYLIGHT
TZOFFSETFROM:-0500
TZOFFSETTO:-0400
TZNAME:EDT
DTSTART:20240310T070000
END:DAYLIGHT
BEGIN:STANDARD
TZOFFSETFROM:-0400
TZOFFSETTO:-0500
TZNAME:EST
DTSTART:20241103T060000
END:STANDARD
BEGIN:DAYLIGHT
TZOFFSETFROM:-0500
TZOFFSETTO:-0400
TZNAME:EDT
DTSTART:20250309T070000
END:DAYLIGHT
BEGIN:STANDARD
TZOFFSETFROM:-0400
TZOFFSETTO:-0500
TZNAME:EST
DTSTART:20251102T060000
END:STANDARD
END:VTIMEZONE
BEGIN:VEVENT
DTSTART;TZID=America/New_York:20241009T090000
DTEND;TZID=America/New_York:20241009T150000
DTSTAMP:20260420T092152
CREATED:20240918T023612Z
LAST-MODIFIED:20240918T030855Z
UID:10000059-1728464400-1728486000@brooklyncb6.cityofnewyork.us
SUMMARY:Assemblymember Robert Carroll - City Agencies at District Office
DESCRIPTION:
URL:https://brooklyncb6.cityofnewyork.us/event/assemblymember-robert-carroll-city-agencies-at-district-office/
LOCATION:Assemblymember Robert Carroll District Office\, 416 7th Ave\, Brooklyn\, NY\, 11215\, United States
ORGANIZER;CN="Assemblymber Robert Carroll":MAILTO:CarrollR@nyassembly.gov
END:VEVENT
BEGIN:VEVENT
DTSTART;TZID=America/New_York:20241009T150000
DTEND;TZID=America/New_York:20241009T190000
DTSTAMP:20260420T092152
CREATED:20241004T163246Z
LAST-MODIFIED:20241004T163349Z
UID:10000124-1728486000-1728500400@brooklyncb6.cityofnewyork.us
SUMMARY:Barnacle Parade Coloring Party
DESCRIPTION:
URL:https://brooklyncb6.cityofnewyork.us/event/barnacle-parade-coloring-party/
LOCATION:Strong Rope Brewery\, 185 Van Dyke St\, Brooklyn\, NY\, 11231\, United States
END:VEVENT
BEGIN:VEVENT
DTSTART;TZID=America/New_York:20241009T183000
DTEND;TZID=America/New_York:20241009T210000
DTSTAMP:20260420T092152
CREATED:20240819T202053Z
LAST-MODIFIED:20241009T171305Z
UID:10000002-1728498600-1728507600@brooklyncb6.cityofnewyork.us
SUMMARY:CB6 Full Board Meeting- October 2024
DESCRIPTION: \nBROOKLYN COMMUNITY BOARD 6  \nFULL BOARD MEETING \nWHEN: Wednesday\, October 9\, 2024\, 6:30 PM \nWHERE: Van Alen Institute @ 303 Bond St & Zoom @ bit.ly/cb6oct924zoom \nAGENDA  \nI.ADOPTION OF SEPTEMBER 2024 MINUTES \nII.CHAIRPERSON’S REPORT \nIII.DISTRICT MANAGER’S REPORT \nIV.COMMITTEE REPORTS: \nA. BUSINESS AFFAIRS & LICENSING \n\n\n 	\n\n 	\n\n 	\n\n 	\n\n 	Motion to approve an application for a bank (Spring Bank) at 365 Van Brunt Street.\n 	Motion to approve a liquor license at 517 Court Street.\n 	Motion to approve a liquor license 2- 8 Prospect Place.\n\n\n\n\n\n\n\n\n\nB. LANDMARKS\, LAND USE & HOUSING \n\n\n 	\n\n 	\n\n 	\n\n 	\n\n 	Motion to approve an application to the Landmarks Preservation Commission for 309 Carroll Street to allow for changes to the rear facade\, yard deck\, window replacement\, and hardscape upgrades\n 	Motion to disapprove an application to the Board of Standards & Appeals application for 334 Douglass Street.\n\n\n\n\n\n\n\n\n\nC. TRANSPORTATION\, PARKS\, PUBLIC SAFETY & PUBLIC INFRASTRUCTURE \n\n\n 	\n\n 	\n\n 	\n\n 	\n\n 	Motion to support the initiative for Affordable Student Access to Citi Bike\, advocating for the expansion of the Reduced Fare Bike Share program to include public high school and CUNY students aged 16 and above.\n 	A motion to support  the addition at least 3 public bathrooms to be sited in green spaces and buildings along the canal. This motion came at the request of the Gowanus Oversight Task Force.\n\n\n\n\n\n\n\n\n\nV.NEW/OTHER BUSINESS \nVI.Community Session \nVII.ADJOURNMENT
URL:https://brooklyncb6.cityofnewyork.us/event/board-meeting-3/
LOCATION:Van Alen Institute\, 303 Bond Street\, Brooklyn\, NY\, 11231\, United States
ORGANIZER;CN="Brooklyn Community Board 6":MAILTO:info@bkcb6.org
END:VEVENT
END:VCALENDAR